BEGIN:VCALENDAR
PRODID:-
VERSION:2.0
BEGIN:VEVENT
DTSTART;VALUE=DATE:20210916
DTSTAMP:20260426T040933Z
SEQUENCE:0
SUMMARY:Parent-Teacher Interviews (Student Free Day)
UID:13047@alsiraatcollege
END:VEVENT
END:VCALENDAR
