BEGIN:VCALENDAR
PRODID:-
VERSION:2.0
BEGIN:VEVENT
DTSTART;VALUE=DATE:20210917
DTSTAMP:20260426T040506Z
SEQUENCE:0
SUMMARY:Staff Training - Student Free Day
UID:13048@alsiraatcollege
END:VEVENT
END:VCALENDAR
