BEGIN:VCALENDAR
PRODID:-
VERSION:2.0
BEGIN:VEVENT
DTSTART;VALUE=DATE:20211101
DTSTAMP:20260425T161416Z
SEQUENCE:0
SUMMARY:Staff Training - Student Free Day
UID:13049@alsiraatcollege
END:VEVENT
END:VCALENDAR
