BEGIN:VCALENDAR
PRODID:-
VERSION:2.0
BEGIN:VEVENT
DTSTART;VALUE=DATE:20211102
DTSTAMP:20260425T155051Z
SEQUENCE:0
SUMMARY:Melbourne Cup Day - Public Holiday
UID:13052@alsiraatcollege
END:VEVENT
END:VCALENDAR
