BEGIN:VCALENDAR
PRODID:-
VERSION:2.0
BEGIN:VEVENT
DTSTART;VALUE=DATE:20210920
DTSTAMP:20260426T033603Z
SEQUENCE:0
SUMMARY:Hifz Holiday Class
UID:13084@alsiraatcollege
END:VEVENT
END:VCALENDAR
