BEGIN:VCALENDAR
PRODID:-
VERSION:2.0
BEGIN:VEVENT
DTSTART;VALUE=DATE:20210921
DTSTAMP:20260426T021413Z
SEQUENCE:0
SUMMARY:Hifz Holiday Class
UID:13085@alsiraatcollege
END:VEVENT
END:VCALENDAR
