BEGIN:VCALENDAR
PRODID:-
VERSION:2.0
BEGIN:VEVENT
DTSTART;VALUE=DATE:20210922
DTSTAMP:20260426T023024Z
SEQUENCE:0
SUMMARY:Hifz Holiday Class
UID:13086@alsiraatcollege
END:VEVENT
END:VCALENDAR
