BEGIN:VCALENDAR
PRODID:-
VERSION:2.0
BEGIN:VEVENT
DTSTART;VALUE=DATE:20210920
DTSTAMP:20260426T021413Z
SEQUENCE:0
SUMMARY:POSTPONED to Feb/March 2022: Year 9 Canberra Camp
UID:13100@alsiraatcollege
END:VEVENT
END:VCALENDAR
