BEGIN:VCALENDAR
PRODID:-
VERSION:2.0
BEGIN:VEVENT
DTSTART;VALUE=DATE:20211110
LOCATION:Angahook Holiday Camp, 10 Distillery Creek Rd, Aireys Inlet VIC 3231
DTSTAMP:20260425T141612Z
SEQUENCE:0
SUMMARY:Year 4 Camp Angahook
UID:13126@alsiraatcollege
END:VEVENT
END:VCALENDAR
