BEGIN:VCALENDAR
PRODID:-
VERSION:2.0
BEGIN:VEVENT
DTSTART;VALUE=DATE:20211111
LOCATION:Angahook Holiday Camp, 10 Distillery Creek Rd, Aireys Inlet VIC 3231
DTSTAMP:20260425T141639Z
SEQUENCE:0
SUMMARY:Year 4 Camp Angakook
UID:13127@alsiraatcollege
END:VEVENT
END:VCALENDAR
