BEGIN:VCALENDAR
PRODID:-
VERSION:2.0
BEGIN:VEVENT
DTSTART;VALUE=DATE:20211004
DTSTAMP:20260425T224551Z
SEQUENCE:0
SUMMARY:Start of Term 4
UID:13132@alsiraatcollege
END:VEVENT
END:VCALENDAR
