BEGIN:VCALENDAR
PRODID:-
VERSION:2.0
BEGIN:VEVENT
DTSTART;VALUE=DATE:20211112
LOCATION:B1
DTSTAMP:20260425T141639Z
SEQUENCE:0
SUMMARY:ICAS Maths
UID:13167@alsiraatcollege
END:VEVENT
END:VCALENDAR
