BEGIN:VCALENDAR
PRODID:-
VERSION:2.0
BEGIN:VEVENT
DTSTART;VALUE=DATE:20211110
LOCATION:B1
DTSTAMP:20260425T141720Z
SEQUENCE:0
SUMMARY:ICAS Spelling Bee
UID:13168@alsiraatcollege
END:VEVENT
END:VCALENDAR
