BEGIN:VCALENDAR
PRODID:-
VERSION:2.0
BEGIN:VEVENT
DTSTART;VALUE=DATE:20211115
LOCATION:B1
DTSTAMP:20260425T123244Z
SEQUENCE:0
SUMMARY:ICAS English
UID:13169@alsiraatcollege
END:VEVENT
END:VCALENDAR
