BEGIN:VCALENDAR
PRODID:-
VERSION:2.0
BEGIN:VEVENT
DTSTART;VALUE=DATE:20211109
LOCATION:B1
DTSTAMP:20260425T141444Z
SEQUENCE:0
SUMMARY:ICAS Digital Technology
UID:13171@alsiraatcollege
END:VEVENT
END:VCALENDAR
