BEGIN:VCALENDAR
PRODID:-
VERSION:2.0
BEGIN:VEVENT
DTSTART;VALUE=DATE:20211111
LOCATION:B1
DTSTAMP:20260425T141547Z
SEQUENCE:0
SUMMARY:ICAS Science
UID:13172@alsiraatcollege
END:VEVENT
END:VCALENDAR
