BEGIN:VCALENDAR
PRODID:-
VERSION:2.0
BEGIN:VEVENT
DTSTART;VALUE=DATE:20211027
DTSTAMP:20260425T174337Z
SEQUENCE:0
SUMMARY:VCE Exam: English
UID:13223@alsiraatcollege
END:VEVENT
END:VCALENDAR
