BEGIN:VCALENDAR
PRODID:-
VERSION:2.0
BEGIN:VEVENT
DTSTART;VALUE=DATE:20211101
DTSTAMP:20260425T155437Z
SEQUENCE:0
SUMMARY:VCE Exam: Psychology
UID:13252@alsiraatcollege
END:VEVENT
END:VCALENDAR
