BEGIN:VCALENDAR
PRODID:-
VERSION:2.0
BEGIN:VEVENT
DTSTART;VALUE=DATE:20211029
DTSTAMP:20260425T171736Z
SEQUENCE:0
SUMMARY:VCE Exam: Further Maths (exam 1)
UID:13253@alsiraatcollege
END:VEVENT
END:VCALENDAR
