BEGIN:VCALENDAR
PRODID:-
VERSION:2.0
BEGIN:VEVENT
DTSTART;VALUE=DATE:20211101
DTSTAMP:20260425T154918Z
SEQUENCE:0
SUMMARY:VCE Exam: Further Maths (exam 2)
UID:13254@alsiraatcollege
END:VEVENT
END:VCALENDAR
