BEGIN:VCALENDAR
PRODID:-
VERSION:2.0
BEGIN:VEVENT
DTSTART;VALUE=DATE:20211110
DTSTAMP:20260425T141426Z
SEQUENCE:0
SUMMARY:VCE Exam: Physics
UID:13255@alsiraatcollege
END:VEVENT
END:VCALENDAR
