BEGIN:VCALENDAR
PRODID:-
VERSION:2.0
BEGIN:VEVENT
DTSTART;VALUE=DATE:20211109
DTSTAMP:20260425T141426Z
SEQUENCE:0
SUMMARY:VCE Exam: Chemistry
UID:13256@alsiraatcollege
END:VEVENT
END:VCALENDAR
