BEGIN:VCALENDAR
PRODID:-
VERSION:2.0
BEGIN:VEVENT
DTSTART;VALUE=DATE:20211110
DTSTAMP:20260425T141403Z
SEQUENCE:0
SUMMARY:VCE Exam: Legal Studies
UID:13257@alsiraatcollege
END:VEVENT
END:VCALENDAR
