BEGIN:VCALENDAR
PRODID:-
VERSION:2.0
BEGIN:VEVENT
DTSTART;VALUE=DATE:20211029
DTSTAMP:20260425T174518Z
SEQUENCE:0
SUMMARY:VCE Exam: Biology
UID:13258@alsiraatcollege
END:VEVENT
END:VCALENDAR
