BEGIN:VCALENDAR
PRODID:-
VERSION:2.0
BEGIN:VEVENT
DTSTART;VALUE=DATE:20211103
DTSTAMP:20260425T154833Z
SEQUENCE:0
SUMMARY:VCE Exam: Maths Methods (exam 1)
UID:13259@alsiraatcollege
END:VEVENT
END:VCALENDAR
