BEGIN:VCALENDAR
PRODID:-
VERSION:2.0
BEGIN:VEVENT
DTSTART;VALUE=DATE:20211104
DTSTAMP:20260425T155432Z
SEQUENCE:0
SUMMARY:VCE Exam: Maths Methods (exam 2)
UID:13260@alsiraatcollege
END:VEVENT
END:VCALENDAR
