BEGIN:VCALENDAR
PRODID:-
VERSION:2.0
BEGIN:VEVENT
DTSTART;VALUE=DATE:20211103
DTSTAMP:20260425T155302Z
SEQUENCE:0
SUMMARY:VCE Exam: Business Management
UID:13261@alsiraatcollege
END:VEVENT
END:VCALENDAR
