BEGIN:VCALENDAR
PRODID:-
VERSION:2.0
BEGIN:VEVENT
DTSTART;VALUE=DATE:20211013
LOCATION:ZOOM
DTSTAMP:20260425T210450Z
SEQUENCE:0
SUMMARY:Look and Learn School Tour
UID:13270@alsiraatcollege
END:VEVENT
END:VCALENDAR
