BEGIN:VCALENDAR
PRODID:-
VERSION:2.0
BEGIN:VEVENT
DTSTART;VALUE=DATE:20210913
LOCATION:ZOOM
DTSTAMP:20260426T041045Z
SEQUENCE:0
SUMMARY:Virtual Look and Learn School Tour
DESCRIPTION:###[Register here for 13 September.](https://alsiraat.zoom.us/meeting/register/tJAoceGuqDstHdd8whjNlsRY6Atma-QTH9Bf)
UID:13271@alsiraatcollege
END:VEVENT
END:VCALENDAR
