BEGIN:VCALENDAR
PRODID:-
VERSION:2.0
BEGIN:VEVENT
DTSTART;VALUE=DATE:20211005
DTSTAMP:20260425T223956Z
SEQUENCE:0
SUMMARY:GAT (General Achievement Test)
UID:13272@alsiraatcollege
END:VEVENT
END:VCALENDAR
