BEGIN:VCALENDAR
PRODID:-
VERSION:2.0
BEGIN:VEVENT
DTSTART;VALUE=DATE:20220301
DTSTAMP:20260424T095904Z
SEQUENCE:0
SUMMARY:Year 10 Canberra Camp
UID:13278@alsiraatcollege
END:VEVENT
END:VCALENDAR
