BEGIN:VCALENDAR
PRODID:-
VERSION:2.0
BEGIN:VEVENT
DTSTART;VALUE=DATE:20220302
DTSTAMP:20260424T095927Z
SEQUENCE:0
SUMMARY:Year 10 Canberra Camp
UID:13279@alsiraatcollege
END:VEVENT
END:VCALENDAR
