BEGIN:VCALENDAR
PRODID:-
VERSION:2.0
BEGIN:VEVENT
DTSTART;VALUE=DATE:20220303
DTSTAMP:20260424T095630Z
SEQUENCE:0
SUMMARY:Year 10 Canberra Camp
UID:13280@alsiraatcollege
END:VEVENT
END:VCALENDAR
