BEGIN:VCALENDAR
PRODID:-
VERSION:2.0
BEGIN:VEVENT
DTSTART;VALUE=DATE:20210915
LOCATION:Zoom
DTSTAMP:20260426T041248Z
SEQUENCE:0
SUMMARY:2022 Year 11 parent information session
UID:13282@alsiraatcollege
END:VEVENT
END:VCALENDAR
