BEGIN:VCALENDAR
PRODID:-
VERSION:2.0
BEGIN:VEVENT
DTSTART;VALUE=DATE:20220207
DTSTAMP:20260424T163228Z
SEQUENCE:0
SUMMARY:Year 7 Boys: Doxa Malmsbury Camp
UID:13285@alsiraatcollege
END:VEVENT
END:VCALENDAR
