BEGIN:VCALENDAR
PRODID:-
VERSION:2.0
BEGIN:VEVENT
DTSTART;VALUE=DATE:20220208
DTSTAMP:20260424T151600Z
SEQUENCE:0
SUMMARY:Year 7 Boys: Doxa Malmsbury Camp
UID:13286@alsiraatcollege
END:VEVENT
END:VCALENDAR
