BEGIN:VCALENDAR
PRODID:-
VERSION:2.0
BEGIN:VEVENT
DTSTART;VALUE=DATE:20220209
DTSTAMP:20260424T153716Z
SEQUENCE:0
SUMMARY:Year 7 Girls: Doxa Malmsbury Camp
UID:13288@alsiraatcollege
END:VEVENT
END:VCALENDAR
