BEGIN:VCALENDAR
PRODID:-
VERSION:2.0
BEGIN:VEVENT
DTSTART;VALUE=DATE:20220210
DTSTAMP:20260424T151641Z
SEQUENCE:0
SUMMARY:Year 7 Girls: Doxa Malmsbury Camp
UID:13289@alsiraatcollege
END:VEVENT
END:VCALENDAR
