BEGIN:VCALENDAR
PRODID:-
VERSION:2.0
BEGIN:VEVENT
DTSTART;VALUE=DATE:20220211
DTSTAMP:20260424T152722Z
SEQUENCE:0
SUMMARY:Year 7 Girls: Doxa Malmsbury Camp
UID:13290@alsiraatcollege
END:VEVENT
END:VCALENDAR
