BEGIN:VCALENDAR
PRODID:-
VERSION:2.0
BEGIN:VEVENT
DTSTART;VALUE=DATE:20211124
DTSTAMP:20260425T105935Z
SEQUENCE:0
SUMMARY:Year 7 (HPV 2) and Year 10 (Meningococcal) Vaccinations
UID:13304@alsiraatcollege
END:VEVENT
END:VCALENDAR
