BEGIN:VCALENDAR
PRODID:-
VERSION:2.0
BEGIN:VEVENT
DTSTART;VALUE=DATE:20211006
DTSTAMP:20260425T224221Z
SEQUENCE:0
SUMMARY:VCE students return to learning on site
UID:13305@alsiraatcollege
END:VEVENT
END:VCALENDAR
