BEGIN:VCALENDAR
PRODID:-
VERSION:2.0
BEGIN:VEVENT
DTSTART;VALUE=DATE:20211022
DTSTAMP:20260425T190254Z
SEQUENCE:0
SUMMARY:Year 12 Farewell
UID:13306@alsiraatcollege
END:VEVENT
END:VCALENDAR
