BEGIN:VCALENDAR
PRODID:-
VERSION:2.0
BEGIN:VEVENT
DTSTART;VALUE=DATE:20220128
DTSTAMP:20260424T191811Z
SEQUENCE:0
SUMMARY:Foundation, Year 7 & VCE (10-12) and new students start
DESCRIPTION:Please note the time amendment:

Students will be released at 11am (instead of 2pm, as previously communicated!)
UID:13311@alsiraatcollege
END:VEVENT
END:VCALENDAR
