BEGIN:VCALENDAR
PRODID:-
VERSION:2.0
BEGIN:VEVENT
DTSTART;VALUE=DATE:20220131
DTSTAMP:20260424T171820Z
SEQUENCE:0
SUMMARY:Remaining students commence
UID:13312@alsiraatcollege
END:VEVENT
END:VCALENDAR
