BEGIN:VCALENDAR
PRODID:-
VERSION:2.0
BEGIN:VEVENT
DTSTART;VALUE=DATE:20220314
DTSTAMP:20260424T062421Z
SEQUENCE:0
SUMMARY:Labour Day (Public Holiday)
UID:13313@alsiraatcollege
END:VEVENT
END:VCALENDAR
