BEGIN:VCALENDAR
PRODID:-
VERSION:2.0
BEGIN:VEVENT
DTSTART;VALUE=DATE:20220414
DTSTAMP:20260424T030511Z
SEQUENCE:0
SUMMARY:Staff Training (student free day)
UID:13315@alsiraatcollege
END:VEVENT
END:VCALENDAR
