BEGIN:VCALENDAR
PRODID:-
VERSION:2.0
BEGIN:VEVENT
DTSTART;VALUE=DATE:20220415
DTSTAMP:20260424T025804Z
SEQUENCE:0
SUMMARY:Good Friday (Public Holiday)
UID:13316@alsiraatcollege
END:VEVENT
END:VCALENDAR
