BEGIN:VCALENDAR
PRODID:-
VERSION:2.0
BEGIN:VEVENT
DTSTART;VALUE=DATE:20211018
DTSTAMP:20260425T191649Z
SEQUENCE:0
SUMMARY:Foundation students return back on site
UID:13333@alsiraatcollege
END:VEVENT
END:VCALENDAR
