BEGIN:VCALENDAR
PRODID:-
VERSION:2.0
BEGIN:VEVENT
DTSTART;VALUE=DATE:20211019
DTSTAMP:20260425T193202Z
SEQUENCE:0
SUMMARY:Foundation students back on site
UID:13334@alsiraatcollege
END:VEVENT
END:VCALENDAR
