BEGIN:VCALENDAR
PRODID:-
VERSION:2.0
BEGIN:VEVENT
DTSTART;VALUE=DATE:20211020
DTSTAMP:20260425T192542Z
SEQUENCE:0
SUMMARY:Foundation students back on site
UID:13335@alsiraatcollege
END:VEVENT
END:VCALENDAR
